BEGIN:VCALENDAR
VERSION:2.0
PRODID:-//Asian Flyways Collaborative for Waterbirds - ECPv6.15.20//NONSGML v1.0//EN
CALSCALE:GREGORIAN
METHOD:PUBLISH
X-WR-CALNAME:Asian Flyways Collaborative for Waterbirds
X-ORIGINAL-URL:https://afcow.org
X-WR-CALDESC:Events for Asian Flyways Collaborative for Waterbirds
REFRESH-INTERVAL;VALUE=DURATION:PT1H
X-Robots-Tag:noindex
X-PUBLISHED-TTL:PT1H
BEGIN:VTIMEZONE
TZID:America/Los_Angeles
BEGIN:DAYLIGHT
TZOFFSETFROM:-0800
TZOFFSETTO:-0700
TZNAME:PDT
DTSTART:20220313T100000
END:DAYLIGHT
BEGIN:STANDARD
TZOFFSETFROM:-0700
TZOFFSETTO:-0800
TZNAME:PST
DTSTART:20221106T090000
END:STANDARD
BEGIN:DAYLIGHT
TZOFFSETFROM:-0800
TZOFFSETTO:-0700
TZNAME:PDT
DTSTART:20230312T100000
END:DAYLIGHT
BEGIN:STANDARD
TZOFFSETFROM:-0700
TZOFFSETTO:-0800
TZNAME:PST
DTSTART:20231105T090000
END:STANDARD
BEGIN:DAYLIGHT
TZOFFSETFROM:-0800
TZOFFSETTO:-0700
TZNAME:PDT
DTSTART:20240310T100000
END:DAYLIGHT
BEGIN:STANDARD
TZOFFSETFROM:-0700
TZOFFSETTO:-0800
TZNAME:PST
DTSTART:20241103T090000
END:STANDARD
END:VTIMEZONE
BEGIN:VEVENT
DTSTART;VALUE=DATE:20231121
DTEND;VALUE=DATE:20231123
DTSTAMP:20260419T094107
CREATED:20230516T043837Z
LAST-MODIFIED:20230516T044010Z
UID:889-1700524800-1700697599@afcow.org
SUMMARY:BOUsci23 call for abstracts!
DESCRIPTION:Global flyways: a synthesis of bird migration research\n#BOUsci23 \n \nZoom abstract submission deadline: 0900 BST\, 19 June 2023 \nGlobal flyways | #BOUsci23 \n \nPoster & Twitter-only abstracts also welcome (deadline 31 July 2023) \nThe conference programme will take place over a single 24-hour period\, divided into three sessions focusing on Africa-Eurasia\, Americas and Asia-Pacific flyways\, respectively. \nKeynotes \nMiriam Liedvogel\, Institute of Avian Research\, Germany\nBlackcap migration: adaptation in time and space \nBrady Mattsson\, University of Natural Resources and Life Sciences\, Austria\nModelling and decision analysis to inform sustainable management and conservation of migratory species \nTammy Davies\, Birdlife International\, UK\nSeabird flyways: a framework for international collaboration  \nMohamed Henriques\, University of Groningen\, the Netherlands\nMoving towards a more equitable flyway: how to tackle current barriers constraining a more regionally balanced research and conservation \nMarius Somveille\, University College London\, UK\nEnergy efficiency shapes global bird migration flyways \nKristen Rueg\, Colorado State University\, USA\nThe Bird Genoscape Project: applying genomics to full annual cycle bird conservation \nEmily Cohen\, University of Maryland\, USA\nChancing on a spectacle: co‐occurring animal migrations and interspecific interactions \nNick Bayly\, SELVA\, Colombia\nTitle TBA \nDavid Wilcove\, Princeton University\, USA\nWhy do we know so much about migratory birds but not enough to conserve them? \nJimmy Choi\, Duke Kunshan University\, China\nWhere to draw the line? Using movement data to inform conservation decisions and conserve migratory waterbirds in East Asia \nNyambayar Batbayar\, Wildlife Science and Conservation Center of Mongolia\, Mongolia\nTitle TBA \nHiroyoshi Higuchi\, University of Tokyo\, Japan\nMigration of land and water birds along the Asia-Pacific flyways
URL:https://afcow.org/event/889/
LOCATION:On Zoom and Twitter
CATEGORIES:Events
END:VEVENT
END:VCALENDAR